Workbook
Name A: 'DATI GENERALI'!$WLO$1

Sheet DATI GENERALI
A1: NUMERO CC. | B1: 183/25
A2: Numero RGIP. | B2: 1200/20
A3: Numero RGNR. | B3: 1585/20
A4: Nr. Mod. 27 | B4: \
A5: NR. IST. SIAMM | B5: 5495/25
A6: IMPUTATO/PARTE | B6: CENTONZE MAURO
A7: BENEFICIARIO | B7: AREA 52 SRL
B8: CUSTODE
A9: GIUDICE | B9: MARIANO
A10: ISTANZA DEPOSITATA | B10: 46000
A11: ISTANZA PASSATA AL GIUDICE | B11: 46007
A12: DEPOSITO CONTESTUALE
A13: CONFERIMENTO INCARICO | B13: 43878
A14: DEPOSITO PERIZIA | B14: 44671

Sheet COPERTINA
M5: TRIBUNALE DI LECCE
M6: SEZIONE DEL GIUDICE PER LE INDAGINI PRELIMINARI
R9: NOTIFICHE
M10: Nr. | N10: ='DATI GENERALI'!B1 -> 183/25 | O10: R.C.C. | P10: C.T.U. | R10: PM:
M11: Nr. | N11: ='DATI GENERALI'!B2 -> 1200/20 | O11: R.G.I.P. | R11: AVV:
M12: Nr. | N12: ='DATI GENERALI'!B3 -> 1585/20 | O12: R.G.N.R. | R12: IMP:
M13: Nr. | N13: ='DATI GENERALI'!B4 -> \ | O13: Mod. 27 | R13: P.C.:
M14: NR. | N14: ='DATI GENERALI'!B5 -> 5495/25 | O14: SIAMM | R14: CUSTODE:
R15: C.T.U.:
R16: SIAMM:
Q19: GIUDICE | S19: ='DATI GENERALI'!B9 -> MARIANO
M22: OGGETTO: ISTANZA DI LIQUIDAZIONE ONORARIO C.T.U./ PERITI / INTERPRETI / CUSTODI
M24: PARTI: | O24: ='DATI GENERALI'!B6 -> CENTONZE MAURO
M26: BENEFICIARIO : | O26: ='DATI GENERALI'!B7 -> AREA 52 SRL
M28: ISTANZA | N28: DEPOSITATA | Q28: DEPOSITO: | R28: ='DATI GENERALI'!B12 -> 0
M29: IN CANCELLERIA | Q29: CONTESTUALE
M30: IL : | N30: ='DATI GENERALI'!B10 -> 46000
M33: CONFERIMENTO INCARICO | R33: DEPOSITO PERIZIA
M35: ='DATI GENERALI'!B13 -> 43878 | R35: ='DATI GENERALI'!B14 -> 44671

Sheet REGISTRO
A1: Nr. C.C. DEL 2025 | B1: Gip | C1: RGNR | D1: NR. MOD.27 | E1: NR. IST. SIAMM | F1: PARTE RICHIEDENTE | G1: AVVOCATO / BENEFICIARIO | H1: QUALIFICA | I1: DATA INCARICO | J1: DATA DEPOSITO PERIZIA | K1: DATA DEPOSITO ISTANZA | L1: PASSATA AL GIUDICE | M1: DATA EMISSIONE DECRETO | N1: INVIO NOTIFICA | O1: RICEZIONE NOTIFICA | P1: € | Q1: DATA INVIO MOD. 12 | R1: GIUDICE
A2: ='DATI GENERALI'!B1 -> 183/25 | B2: ='DATI GENERALI'!B2 -> 1200/20 | C2: ='DATI GENERALI'!B3 -> 1585/20 | D2: \ | E2: =COPERTINA!N14 -> 5495/25 | F2: =COPERTINA!O24 -> CENTONZE MAURO | G2: =COPERTINA!O26 -> AREA 52 SRL | H2: ='DATI GENERALI'!B8 -> CUSTODE | I2: =COPERTINA!M35 -> 43878 | J2: =COPERTINA!R35 -> 44671 | K2: =COPERTINA!N30 -> 46000 | L2: ='DATI GENERALI'!B11 -> 46007 | R2: =COPERTINA!S19 -> MARIANO

Sheet REGISTRO 2025
A1: Nr. | B1: Rif. C.C. 2025 | C1: Gip | D1: RGNR | E1: BENEFICIARIO | F1: QUALIFICA | G1: DATA INCARICO | H1: DATA EMISSIONE DECRETO | I1: IMPORTO LIQUIDATO | J1: GIUDICE
A2: 1 | B2: 50 | C2: 6344/18 | D2: 6447/17 | E2: VERGINE CARLA | F2: Amm. Giud. | G2: 45292 | H2: 45664 | I2: 3000 | J2: FEDELE
A3: 2 | B3: 5 | C3: 4974/24 | D3: 5771/24 | E3: CALO' PAOLA | F3: Perito | G3: 45583 | H3: 45691 | I3: 387.86 | J3: VERDEROSA
A4: 3 | B4: 6 | C4: 5954/2022 | D4: 6764/2021 | E4: CALO' PAOLA | F4: Perito | G4: 45583 | H4: 45691 | I4: 387.86 | J4: VERDEROSA
A5: 4 | B5: 15 | C5: 6836/21 | D5: 9716/20 | E5: VAGLIO ROBERTO ENNIO | F5: Perito | G5: 45604 | H5: 45691 | I5: 491.4 | J5: MARIANO
A6: 5 | B6: 15 | C6: 6836/21 | D6: 9716/20 | E6: DE GIORGI ANTONIO | F6: Perito | G6: 45604 | H6: 45691 | I6: 385 | J6: MARIANO
A7: 6 | B7: 9 | C7: 5467/23 | D7: 8817/23 | E7: MARRA MASSIMO GINO | F7: Perito | G7: 45635 | H7: 45695 | I7: 350 | J7: RIZZO
A8: 7 | B8: 26 | C8: 3595/22 | D8: 6223/15 | E8: POUMAYON FLORENCE | F8: Interprete-Trad. | G8: 45251 | H8: 45702 | I8: 379.81 | J8: MARIANO
A9: 8 | B9: 13 | C9: 4508/20 | D9: 1711/19 | E9: CIARAVINO RICCARDO | F9: Amm. Giud. | G9: 44825 | H9: 45707 | I9: 5243.86 | J9: FEDELE
A10: 9 | B10: 25 | C10: 6460/21 | D10: 7830/21 | E10: ZECCA STEFANIA | F10: Perito | G10: 44526 | H10: 45709 | I10: 1957.33 | J10: ZIZZARI
A11: 10 | B11: 21 | C11: 5394/24 | D11: 6485/24 | E11: POLITO AURORA | F11: Perito | G11: 45517 | H11: 45709 | I11: 1493.75 | J11: RIZZO
A12: 11 | B12: 30 | C12: 2535/24 | D12: 2218/24 | E12: MARRA MASSIMO GINO | F12: Perito | G12: 45670 | H12: 45709 | I12: 590.62 | J12: RIZZO
A13: 12 | B13: 32 | C13: 4375/24 | D13: 9711/21 | E13: CALO' SALVATORE | F13: Perito | G13: 45670 | H13: 45721 | I13: 387.86 | J13: ZIZZARI
... A35: 34 | B35: 59 | C35: 6030/24 | D35: 7671/24 | E35: CALO' SALVATORE | F35: Perito | G35: 45707 | H35: 45754 | I35: 600 | J35: MARIANO
A36: 35 | B36: 69 | C36: 4725/23 | D36: 4576/23 | E36: SCRIMIERI SARA | F36: Perito | G36: 45196 | H36: 45757 | I36: RIGETTO | J36: SALA
A37: 36 | B37: 54 | C37: 4539/24 | D37: 296/24 | E37: CALO' PAOLA | F37: Perito | G37: 45639 | H37: 45757 | I37: 600 | J37: SALA
A38: 37 | B38: 55 | C38: 1704/24 | D38: 1459/23 | E38: VERGINEO PIERLUIGI | F38: Perito | G38: 45670 | H38: 45757 | I38: 300 | J38: SALA
A39: 38 | B39: 64 | C39: 6031/21 | D39: 8648/20 | E39: VAGLIO ROBERTO ENNIO | F39: Perito | G39: 45702 | H39: 45761 | I39: 500 | J39: MARIANO
A40: 39 | B40: 65 | C40: 6031/21 | D40: 8648/20 | E40: VAGLIO ROBERTO ENNIO | F40: Perito | G40: 45702 | H40: 45761 | I40: 500 | J40: MARIANO
A41: 40 | B41: 71 | C41: 6031/21 | D41: 8648/20 | E41: VAGLIO ROBERTO ENNIO | F41: Perito | G41: 45728 | H41: 45761 | I41: 500 | J41: MARIANO
A42: 41 | B42: 70 | C42: 6031/21 | D42: 8648/20 | E42: VAGLIO ROBERTO ENNIO | F42: Perito | G42: 45733 | H42: 45761 | I42: 500 | J42: MARIANO
A43: 42 | B43: 18 | C43: 4719/24 | D43: 5342/24 | E43: CALO' PAOLA | F43: Perito | G43: 45608 | H43: 45762 | I43: 350 | J43: FEDELE
A44: 43 | B44: 17 | C44: 3648/24 | D44: 2949/24 | E44: CALO' PAOLA | F44: Perito | G44: 45622 | H44: 45762 | I44: 300 | J44: FEDELE
A45: 44 | B45: 7 | C45: 4076/24 | D45: 10097/23 | E45: MARRA MASSIMO GINO | F45: Perito | G45: 45635 | H45: 45762 | I45: 330 | J45: FEDELE
A46: 45 | B46: 23 | C46: 5342/24 | D46: 4719/24 | E46: REBECCA APOSTOLESCU | F46: Interprete-Trad. | G46: 45661 | H46: 45762 | I46: 392.64 | J46: FEDELE
A47: 46 | B47: 27 | C47: 3647/24 | D47: 2858/24 | E47: MARRA MASSIMO GINO | F47: Perito | G47: 45677 | H47: 45762 | I47: 330 | J47: FEDELE
A48: 47 | B48: 68 | C48: 6381/20 | D48: 10837/19 | E48: CALO' SALVATORE | F48: Perito | G48: 45744 | H48: 45762 | I48: 500 | J48: FEDELE
A49: 48 | B49: 73 | C49: 7101/24 | D49: 6637/24 | E49: SERRA ELIO | F49: Perito | G49: 45616 | H49: 45769 | I49: 263,0,9 | J49: MARIANO
A50: 49 | B50: 52 | C50: 1852/24 | D50: 1768/23 | E50: CALO' SALVATORE | F50: Perito | G50: 45684 | H50: 45776 | I50: 387.86 | J50: ZIZZARI
A51: 50 | B51: 74 | C51: 5774/24 | D51: 7292/24 | E51: CALO' SALVATORE | F51: Perito | G51: 45707 | H51: 45776 | I51: 380 | J51: RIZZO
A52: 51 | B52: 66 | C52: 3657/21 | D52: 4966/20 | E52: VAGLIO ROBERTO ENNIO | F52: Perito | G52: 45736 | H52: 45776 | I52: 581.54 | J52: ZIZZARI
A53: 52 | B53: 60 | C53: 3198/24 | D53: 1357/24 | E53: SCRIMIERI SARA | F53: Perito | G53: 45397 | H53: 45779 | I53: 1074.55 | J53: RIZZO
A54: 53 | B54: 67 | C54: 5350/23 | D54: 6335/23 | E54: CALO' PAOLA | F54: Perito | G54: 45706 | H54: 45779 | I54: 600 | J54: ZIZZARI
A55: 54 | B55: 76 | C55: 6836/21 | D55: 9716/20 | E55: AREA 52 SRL | F55: Custode | G55: 45317 | H55: 45782 | I55: 543.77 | J55: MARIANO
A56: 55 | B56: 75 | C56: 6836/21 | D56: 9716/20 | E56: AREA 52 SRL | F56: Custode | G56: 45317 | H56: 45784 | I56: 453.42 | J56: MARIANO
A57: 56 | B57: 82 | C57: 7860/24 | D57: 8919/24 | E57: OLIVE SILVIA | F57: Perito | G57: 45671 | H57: 45792 | I57: 2055.2 | J57: VERDEROSA
A58: 57 | B58: 83 | C58: 2823/25 | D58: 3271/25 | E58: SERRA ELIO | F58: Perito | G58: 45782 | H58: 45792 | I58: 550 | J58: MARIANO
A59: 58 | B59: 90 | C59: 5834/24 | D59: 7388/24 | E59: PLUVINAGE HUGES | F59: Interprete-Trad. | G59: 45595 | H59: 45793 | I59: 367 | J59: RIZZO
A60: 59 | B60: 56 | C60: 3679/24 | D60: 3693/23 | E60: SANTELLA MARINA | F60: Perito | G60: 45645 | H60: 45797 | I60: 387.86 | J60: MARITATI
A61: 60 | B61: 72 | C61: 7462/24 | D61: 7383/24 | E61: OLIVE SILVIA | F61: Perito | G61: 45665 | H61: 45798 | I61: 400 | J61: SALA
... A131: 130 | B131: 131 | C131: 7674/24 | D131: 7680/24 | E131: SERRA ELIO | F131: Perito | G131: 45839 | H131: 45950 | I131: 1123.02 | J131: FEDELE
A132: 131 | B132: 135 | C132: 2339/23 | D132: 8541/22 | E132: SCUDELLA MAURIZIO | F132: Perito | G132: 2703/25 | H132: 45950 | I132: 1790 | J132: PROTO
A133: 132 | B133: 153 | C133: 1594/25 | D133: 2632/24 | E133: CALO' PAOLA | F133: Perito | G133: 45855 | H133: 45951 | I133: 387.86 | J133: MARITATI
A134: 133 | B134: 152 | C134: 673/25 | D134: 6039/24 | E134: PUCE SALVATORE | F134: Cons. Tecn. di parte | G134: 45513 | H134: 45960 | I134: 832 | J134: VERDEROSA
A135: 134 | B135: 145 | C135: 800/25 | D135: 1228/25 | E135: SCRIMIERI SARA | F135: Perito | G135: 45709 | H135: 45961 | I135: 1581.4 | J135: VERDEROSA
A136: 135 | B136: 150 | C136: 5382/25 | D136: 6936/25 | E136: HYSI BRUCE | F136: Interprete-Trad. | G136: 45923 | H136: 45971 | I136: 30.98 | J136: SALA
A137: 136 | B137: 137 | C137: 6381/20 | D137: 10837/19 | E137: CAPUTO ALBERTO | F137: Perito | G137: 45748 | H137: 45972 | I137: 1318.82 | J137: FEDELE
A138: 137 | B138: 161 | C138: 3232/25 | D138: 866/25 | E138: MARRA MASSIMO GINO | F138: Perito | G138: 45923 | H138: 45974 | I138: 300 | J138: FEDELE
A139: 138 | B139: 155 | C139: 3658/21 | D139: 4949/20 | E139: FERSINI ANDREA | F139: Amm. Giud. | G139: 45684 | H139: 45975 | I139: 6093.87 | J139: RIZZO
A140: 139 | B140: 155 | C140: 3658/21 | D140: 4949/20 | E140: FRANCIOSO FRANCESCO | F140: Amm. Giud. | G140: 45684 | H140: 45975 | I140: 6241.92 | J140: RIZZO
A141: 140 | B141: 139 | C141: 583/25 | D141: 7168/24 | E141: CALO' PAOLA | F141: Perito | G141: 45839 | H141: 45981 | I141: 387.86 | J141: CAPANO
A142: 141 | B142: 162 | C142: 4485/25 | D142: 4924/25 | E142: POUYMAYON FLORENCE | F142: Interprete-Trad. | G142: 45891 | H142: 45981 | I142: 117.44 | J142: VERDEROSA
A143: 142 | B143: 163 | C143: 5333/24 | D143: 10680/23 | E143: CALO' SALVATORE | F143: Perito | G143: 17/09/2025 - 06/10/25 | H143: 45992 | I143: 350 | J143: RIZZO
A144: 143 | B144: 141 | C144: 7294/24 | D144: 545/24 | E144: SULKO DORINA | F144: Interprete-Trad. | G144: 45832 | H144: 45996 | I144: 1541.4 | J144: FEDELE
A145: 144 | B145: 172 | C145: 5395/25 | D145: 6919/25 | E145: BUTTAZZO MARIA TERESA | F145: Perito | G145: 45959 | H145: 45996 | I145: 90 | J145: MARIANO
A146: 145 | B146: 156 | C146: 107/25 | D146: 7423/23 | E146: CALO' PAOLA | F146: Perito | G146: 45847 | H146: 46001 | I146: 350 | J146: CAPANO
A147: 146 | B147: 177 | C147: 8390/25 | D147: 7801/25 | E147: AREA 52 SRL | F147: Custode | G147: 45875 | H147: 46006 | I147: 102.16 | J147: VERDEROSA
A148: 147 | B148: 170 | C148: 1039/25 | D148: 1371/25 | E148: MARRA MASSIMO GINO | F148: Perito | G148: 45938 | H148: 46007 | I148: 408.72 | J148: RIZZO
A149: 148 | B149: 159 | C149: 107/25 | D149: 7423/23 | E149: OLIVE SILVIA | F149: Perito | G149: 45847 | H149: 46009 | I149: 880.8 | J149: CAPANO
A150: 149 | B150: 180 | C150: 41/20 | D150: 10081/19 | E150: AREA 52 SRL | F150: Custode | G150: 43761 | H150: 46010 | I150: 1326.68 | J150: VERDEROSA
A151: 150 | B151: 183 | C151: 1200/20 | D151: 1585/20 | E151: AREA 52 SRL | F151: Custode | G151: 43878 | H151: 46014 | I151: 2889.94 | J151: PROTO
A152: 151 | B152: 171 | C152: 3130/25 | D152: 3699/25 | E152: CALO' SALVATORE | F152: Perito | G152: 45953 | H152: 46014 | I152: 775.72 | J152: PROTO
A153: 152 | B153: 101 | C153: 5275/20 | D153: 8013/19 | E153: VAGLIO ROBERTO | F153: Perito | G153: 45260 | H153: 45848 | I153: 1538.28 | J153: PROTO
A154: 153 | B154: 38 | C154: 2160/24 | D154: 2226/24 | E154: CALO' SALVATORE | F154: Perito | G154: 45670 | J154: ZIZZARI
A155: 154 | B155: 165 | C155: 7004/25 | D155: 2870/25 | E155: AREA 52 SRL | F155: Custode | G155: 45757 | J155: ZIZZARI
A156: 155 | B156: 92 | C156: 1515/2025 | D156: 7070/2021 | E156: SCALESE MAURIZIO | F156: Perito | G156: 45763 | J156: SALA
A157: 156 | B157: 92 | C157: 1515/2025 | D157: 7070/2021 | E157: MIRCHEV DESISLAV IVANOV | F157: Interprete-Trad. | G157: 45763 | J157: SALA
A158: 157 | B158: 130 | C158: 2160/24 | D158: 2226/24 | E158: CALO' SALVATORE | F158: Perito | G158: 45877 | J158: ZIZZARI
A159: 158 | B159: 151 | C159: 1515/25 | D159: 7070/24 | E159: GARZYA VINCENZO | F159: Perito | G159: 45924 | J159: SALA
A160: 159 | B160: 160 | C160: 3658/21 | D160: 4949/20 | E160: VAGLIO ROBERTO ENNIO | F160: Perito | G160: 45945 | J160: SALA
A161: 160 | B161: 169 | C161: 2951/25 | D161: 3462/25 | E161: MARRA MASSIMO GINO | F161: Perito | G161: 45954 | J161: ZIZZARI
A162: 161 | B162: 168 | C162: 276/25 | D162: 97/25 | E162: MARRA MASSIMO GINO | F162: Perito | G162: 45959 | J162: ZIZZARI
A163: 162 | B163: 166 | C163: 7294/24 | D163: 545/24 | E163: SULKO DORINA | F163: Interprete-Trad. | G163: 45979 | J163: FEDELE

Sheet Foglio1
